BEGIN:VCALENDAR
VERSION:2.0
PRODID:-//Bible Society New Zealand - ECPv4.6.23//NONSGML v1.0//EN
CALSCALE:GREGORIAN
METHOD:PUBLISH
X-WR-CALNAME:Bible Society New Zealand
X-ORIGINAL-URL:https://biblesociety.org.nz
X-WR-CALDESC:Events for Bible Society New Zealand
BEGIN:VEVENT
DTSTART;TZID=Pacific/Auckland:20181210T190000
DTEND;TZID=Pacific/Auckland:20181210T210000
DTSTAMP:20181223T213517
CREATED:20181107T042710Z
LAST-MODIFIED:20181107T042710Z
UID:11330-1544468400-1544475600@biblesociety.org.nz
SUMMARY:Mystery Gift Auction Fundraiser
DESCRIPTION:\nEveryone is invited to this fun-filled family event to help raise funds for Bibles. Join the bidding on various mystery gifts on offer. We also invite you to bring a wrapped gift or two to be auctioned. Please note that all gifts must be new. \nSupper will be served after the auction. \nFunds raised from this event will help Bible Society distribute Scripture portions to hospitals in India. \nFor more information\, contact Beryl: 06 324 8569 \nEvent organised by Bible Society’s Rongotea Action Group.  \n
URL:https://biblesociety.org.nz/event/mystery-gift-auction-fundraiser/
LOCATION:St Lukes Rongotea\, cnr of Thames and Tamar Sts\, Rongotea\, New Zealand
ORGANIZER;CN="Cory%20Gawe":MAILTO:cgawe@biblesociety.org.nz
END:VEVENT
END:VCALENDAR